Workbook

Sheet Plan1
B2: GEA - 2010
C3: Programa | D3: Ação | E3: Autorizado | F3: Liquidado | G3: % | H3: Valor
B4: MMA/IBAMA/FUNAMA/ SFB | C4: Recursos Pesqueiros Sustentáveis | D4: Ordenamento Pesqueiro em Reservas Extrativistas | E4: 800000 | F4: 400000 | G4: 25
D6: Desenvolvimento de Projetos-Piloto de Conservação de Manguezais | E6: 650010 | F6: 17581 | G6: 25
C7: Programa Nacional de Florestas | D7: Cadastramento de Florestas Públicas Nacionais | E7: 800000 | F7: 362990 | G7: 100
D8: Demarcação de Florestas Públicas da União no Distrito Florestal da BR 163 | E8: 450000 | F8: 380910 | G8: 100
C9: Gestão da Política de Meio Ambiente | D9: Capacitação de Servidores Públicos Federais em Processo de Qualificação e Requalificação | E9: 10724735 | F9: 7504028 | G9: 5
C10: Comunidades Tradicionais | D10: Gestão e Administração do Programa | E10: 2965000 | F10: 472383 | G10: 75
D11: Capacitação de Comunidades Tradicionais | E11: 5560000 | F11: 418088 | G11: 75
D12: Assistência à Produção e à Comercializaçãode Produtos da Sociobiodiversidade | E12: 405500 | F12: 237764 | G12: 75
C13: Revitalização de Bacias Hidrográficas em Situação de Vulnerabilidade e Degradação Ambiental | D13: Recuperação e Prevenção da Bacia do Rio São Francisco | E13: 0 | F13: 0 | G13: 10
C14: Conservação e Recuperação dos Biomas Brasileiros | D14: Implantação de Corredores Ecológicos | E14: 12763874 | F14: 7345956.3 | G14: 25
D15: Regularização Fundiária das Unidades de Conservação Federais | E15: 153383792 | F15: 50944794 | G15: 100
D16: Gestão de Áreas Protegidas nos Ecossistemas* | E16: 39429458 | F16: 25335032 | G16: 100
D17: Apoio à Criação e Gestão de Áreas Protegidas | E17: 8075839 | F17: 2737236.9 | G17: 100
C18: Conservação, Manejo e Uso Sustentável da Agrobiodiversidade | D18: Fomento à Projetos Demonstrativos na Amazônia e Mata Atlântica | E18: 10150992 | F18: 126444 | G18: 25
C19: Prevenção e Combate ao Desmatamento, Queimadas e Incêndios Florestais (FLORESCER) | E19: 27060000 | F19: 24827333 | G19: 12
B20: ICMBIO | E20: 625857865 | F20: 461157142 | G20: 100
D22: TOTAL | E22: =SUM(E4:E21) -> 8.9907706e+08 | F22: =SUM(F4:F21) -> 5.8226768e+08
B23: Notas:
B24: (2) Fonte de Dados: SIGA Brasil, 2011.
B25: (3) Fonte de Dados: Contas Abertas, 2011;
B27: GEA - 2009 | J27: GEA - 2008
C28: Programa | D28: Ação | E28: Autorizado | F28: Total Liquidado | G28: % | H28: Valor | K28: Programa | L28: Ação | M28: Autorizado | N28: Total Liquidado | O28: % | P28: Valor
B29: MMA/IBAMA/FUNAMA/ SFB | D29: Ordenamento Pesqueiro em Reservas Extrativistas | E29: 927600 | F29: 639563 | G29: 100 | J29: MMA/IBAMA/FUNAMA/ SFB | K29: Recursos Pesqueiros Sustentáveis | L29: Desenvolvimento de Projetos - Piloto de Conservação de Manguezais (4) | N29: 2426000 | O29: 25
C30: Recursos Pesqueiros Sustentáveis | D30: Desenvolvimento de Projetos - Piloto de Conservação de Manguezais (2) | E30: 511596 | F30: 197016 | G30: 25
K31: Programa Nacional de Florestas | L31: Fomento ao Manejo Florestal da Amazônia (4) | N31: 400000 | O31: 25
C32: Programa Nacional de Florestas | D32: Demarcação de Florestas Públicas da União no Distrito Florestal da BR 163 | E32: 3000000 | F32: 612857 | G32: 25 | K32: Gestão da Política de Meio Ambiente | L32: Capacitação de Servidores Públicos Federais em Processo de Qualificação e Requalificação (4) | N32: 3399776 | O32: 5
C33: Gestão da Política de Meio Ambiente | D33: Capacitação de Servidores Públicos Federais em Processo de Qualificação e Requalificação (2) | E33: 0 | F33: 0 | G33: 5 | K33: Comunidades Tradicionais (2) | L33: Gestão e Administração do Programa | M33: 2337600 | N33: 2308093 | O33: 75
C34: Comunidades Tradicionais (2) | D34: Gestão e Administração do Programa | E34: 2280000 | F34: 2255964 | G34: 75 | L34: Capacitação de Comunidades Tradicionais | M34: 40917930 | N34: 14419517 | O34: 75
D35: Capacitação de Comunidades Tradicionais | E35: 5922230 | F35: 2828816 | G35: 75 | L35: Assistência à Produção e à Comercializaçãode Produtos da Sociobiodiversidade | M35: 486000 | N35: 485704 | O35: 75
D36: Assistência à Produção e à Comercializaçãode Produtos da Sociobiodiversidade | E36: 677000 | F36: 170289 | G36: 75 | K36: Revitalização de Bacias Hidrográficas em Situação de Vulnerabilidade e Degradação Ambiental | L36: Recuperação e Prevenção da Bacia do Rio São Francisco (2) | M36: 4190000 | N36: 1129633 | O36: 10
C37: Revitalização de Bacias Hidrográficas em Situação de Vulnerabilidade e Degradação Ambiental | D37: Recuperação e Prevenção da Bacia do Rio São Francisco (2) | E37: 0 | F37: 0 | G37: 10 | K37: Conservação e Recuperação dos Biomas Brasileiros (3) | L37: Implantação de Corredores Ecológicos | M37: 24103008 | N37: 951000 | O37: 25
C38: Conservação e Recuperação dos Biomas Brasileiros (3) | D38: Implantação de Corredores Ecológicos | E38: 10937399 | F38: 4599837.2 | G38: 25 | L38: Capacitação para Conservação e Uso Sustentável dos Biomas | M38: 370000 | N38: 333000 | O38: 25
D39: Regularização Fundiária das Unidades de Conservação Federais | E39: 1483792 | F39: 1561940.7 | G39: 100 | L39: Monitoramento do Sistema de Gestão Integrado e Participação para Conservação e Uso Sustentável dos Biomas Brasileiros. | M39: 2749712 | N39: 642708.54 | O39: 25
D40: Gestão de Áreas Protegidas nos Ecossistemas* | E40: 33.140.184.00 | F40: 29.094.753.26 | G40: 100 | L40: Regularização Fundiária das Unidades de Conservação Federais | M40: 7015000 | N40: 1012053.5 | O40: 100
D41: Apoio à Criação e Gestão de Áreas Protegidas | E41: 9993962 | F41: 9810858.6 | G41: 100 | L41: Gestão de Áreas Protegidas nos Ecossistemas* | M41: 18228289 | N41: 13524330 | O41: 100
C42: Conservação, Manejo e Uso Sustentável da Agrobiodiversidade | D42: Fomento à Projetos Demonstrativos na Amazônia e Mata Atlântica (2) | E42: 14258668 | F42: 408472 | G42: 25 | L42: Apoio à Criação e Gestão de Áreas Protegidas | M42: 35917781 | N42: 2437233.2 | O42: 100
C43: Prevenção e Combate ao Desmatamento, Queimadas e Incêndios Florestais (FLORESCER) (2) | E43: 0 | F43: 0 | G43: 12 | K43: Áreas Protegidas do Brasil | L43: Na Íntegra (2) | M43: 3434107 | N43: 9093397.3 | O43: 100
B44: ICMBIO (2) | E44: 353893468 | F44: 322779754 | K44: Conservação, Manejo e Uso Sustentável da Agrobiodiversidade | L44: Fomento à Projetos Demonstrativos na Amazônia e Mata Atlântica (4) | M44: 3434107 | N44: 300000 | O44: 25
...

Sheet Plan2
B2: Financiamento do SNUC 2000 -2010
B3: Ano | C3: Autorizado* | D3: Liquidado** | E3: MMA, 2009*** | F3: % dos gastos totais atingida
B4: 2000 | C4: =Plan1!M137 -> 130273336 | D4: =Plan1!N137 -> 60751457 | E4: 0 | F4: 0
B5: 2001 | C5: =Plan1!E140 -> 136014075 | D5: =Plan1!F140 -> 82285990 | E5: 275000000 | F5: =D5*100/E5/100 -> 0.29922178
B6: 2002 | C6: =Plan1!M118 -> 162656120 | D6: =Plan1!N118 -> 93455305 | E6: 290000000 | F6: =D6*100/E6/100 -> 0.32225967
B7: 2003 | C7: =Plan1!E120 -> 144356057 | D7: =Plan1!F120 -> 78726062 | E7: 240000000 | F7: =D7*100/E7/100 -> 0.32802526
B8: 2004 | C8: =Plan1!M98 -> 58245918 | D8: =Plan1!N98 -> 36342294 | E8: 295000000 | F8: =D8*100/E8/100 -> 0.12319422
B9: 2005 | C9: =Plan1!E100 -> 66899167 | D9: =Plan1!F100 -> 43541729 | E9: 285000000 | F9: =D9*100/E9/100 -> 0.152778
B10: 2006 | C10: =Plan1!M76 -> 74091558 | D10: =Plan1!N76 -> 58064664 | E10: 325000000 | F10: =D10*100/E10/100 -> 0.17866051
B11: 2007 | C11: =Plan1!E76 -> 81674712 | D11: =Plan1!F76 -> 66615763 | E11: 390000000 | F11: =D11*100/E11/100 -> 0.17080965
B12: 2008 | C12: =Plan1!M48 -> 477053786 | D12: =Plan1!N48 -> 3.4206664e+08 | E12: 315000000 | F12: =D12*100/E12/100 -> 1.0859259
B13: 2009 | C13: =Plan1!E45 -> 402958115 | D13: =Plan1!F45 -> 3.452258e+08 | E13: 0 | F13: 0
B14: 2010 | C14: =Plan1!E22 -> 8.9907706e+08 | D14: =Plan1!F22 -> 5.8226768e+08 | E14: 0 | F14: 0
B15: * valores disponibilizados pelas fontes de pesquisa do estudo
B16: ** valores atingidos pelo estudo
B17: ***valores disponibilizados pelo estudo Pilares para a Sustentabilidade Financeira do SNUC.

Sheet Plan3
B2: Financiamento do SNUC 2000 - 2010 (valores agregados - MILHÕES DE R$)
C3: MMA | E3: SFB | G3: IBAMA | I3: ICMBio | K3: TOTAL SNUC
B4: Ano | C4: Orç. Total | D4: %SNUC | E4: Orç. Total | F4: %SNUC | G4: Orç. Total | H4: %SNUC | I4: Orç. Total | J4: %SNUC | K4: GEA - Dados agregados | L4: MMA, 2009*** | M4: % dos gastos totais atingida
B5: 2000 | D5: =C5*0.1005 -> 0 | E5: 0 | F5: =E5*0.3 -> 0 | G5: 0 | H5: =G5*0.337 -> 0 | I5: 0 | J5: =I5 -> 0 | K5: =D5+F5+H5+J5 -> 0 | L5: 0 | M5: 0
B6: 2001 | C6: 946132233 | D6: =C6*0.1005 -> 95086289 | E6: 0 | F6: =E6*0.3 -> 0 | G6: 0 | H6: =G6*0.337 -> 0 | I6: 0 | J6: =I6 -> 0 | K6: =D6+F6+H6+J6 -> 95086289 | L6: 275000000 | M6: =K6*100/L6/100 -> 0.34576833
B7: 2002 | C7: 264969354 | D7: =C7*0.1005 -> 26629420 | E7: 0 | F7: =E7*0.3 -> 0 | G7: 578252923 | H7: =G7*0.337 -> 1.9487124e+08 | I7: 0 | J7: =I7 -> 0 | K7: =D7+F7+H7+J7 -> 2.2150066e+08 | L7: 290000000 | M7: =K7*100/L7/100 -> 0.76379536
B8: 2003 | C8: 161629505 | D8: =C8*0.1005 -> 16243765 | E8: 0 | F8: =E8*0.3 -> 0 | G8: 603799912 | H8: =G8*0.337 -> 2.0348057e+08 | I8: 0 | J8: =I8 -> 0 | K8: =D8+F8+H8+J8 -> 2.1972434e+08 | L8: 240000000 | M8: =K8*100/L8/100 -> 0.91551806
B9: 2004 | C9: 188140036 | D9: =C9*0.1005 -> 18908074 | E9: 0 | F9: =E9*0.3 -> 0 | G9: 796167067 | H9: =G9*0.337 -> 2.683083e+08 | I9: 0 | J9: =I9 -> 0 | K9: =D9+F9+H9+J9 -> 2.8721638e+08 | L9: 295000000 | M9: =K9*100/L9/100 -> 0.97361483
B10: 2005 | C10: 224019885 | D10: =C10*0.1005 -> 22513998 | E10: 0 | F10: =E10*0.3 -> 0 | G10: 798921406 | H10: =G10*0.337 -> 2.6923651e+08 | I10: 0 | J10: =I10 -> 0 | K10: =D10+F10+H10+J10 -> 2.9175051e+08 | L10: 285000000 | M10: =K10*100/L10/100 -> 1.023686
B11: 2006 | C11: 194327786 | D11: =C11*0.1 -> 19432779 | E11: 999685.38 | F11: =E11*0.3 -> 299905.61 | G11: 978348209 | H11: =G11*0.337 -> 3.2970335e+08 | I11: 0 | J11: =I11 -> 0 | K11: =D11+F11+H11+J11 -> 3.4943603e+08 | L11: 325000000 | M11: =K11*100/L11/100 -> 1.0751878
B12: 2007 | C12: 203286700 | D12: =C12*0.1 -> 20328670 | E12: 11289436 | F12: =E12*0.3 -> 3386830.8 | G12: 1061314712 | H12: =G12*0.337 -> 3.5766306e+08 | I12: 0 | J12: =I12 -> 0 | K12: =D12+F12+H12+J12 -> 3.8137856e+08 | L12: 390000000 | M12: =K12*100/L12/100 -> 0.97789374
B13: 2008 | C13: 205135579 | D13: =C13*0.1 -> 20513558 | E13: 12703014 | F13: =E13*0.3 -> 3810904.2 | G13: 838209807 | H13: =G13*0.0105 -> 8801203 | I13: 282611510 | J13: =I13 -> 282611510 | K13: =D13+F13+H13+J13 -> 3.1573718e+08 | L13: 315000000 | M13: =K13*100/L13/100 -> 1.0023402
B14: 2009 | C14: 161507630 | D14: =C14*0.1 -> 16150763 | E14: 25151461 | F14: =E14*0.3 -> 7545438.3 | G14: 969393719 | H14: =G14*0.0105 -> 10178634 | I14: 322779754 | J14: =I14 -> 322779754 | K14: =D14+F14+H14+J14 -> 3.5665459e+08 | L14: 0 | M14: 0
B15: 2010 | C15: 150552892 | D15: =C15*0.1 -> 15055289 | E15: 31728730 | F15: =E15*0.3 -> 9518619 | G15: 1088409361 | H15: =G15*0.0105 -> 11428298 | I15: 461157142 | J15: =I15 -> 461157142 | K15: =D15+F15+H15+J15 -> 4.9715935e+08 | L15: 0 | M15: 0
B16: ***valores disponibilizados na publicação Pilares para a Sustentabilidade Financeira do SNUC

Sheet Plan4
B2: Gastos Efetivos Atuais do SNUC
B3: Ano | C3: GEA 1 | D3: GEA 2 | E3: GEA 3
B4: 2000 | C4: =Plan2!D4 -> 60751457 | D4: =Plan3!K5 -> 0 | E4: =Plan3!L5 -> 0
B5: 2001 | C5: =Plan2!D5 -> 82285990 | D5: =Plan3!K6 -> 95086289 | E5: =Plan3!L6 -> 275000000
B6: 2002 | C6: =Plan2!D6 -> 93455305 | D6: =Plan3!K7 -> 2.2150066e+08 | E6: =Plan3!L7 -> 290000000
B7: 2003 | C7: =Plan2!D7 -> 78726062 | D7: =Plan3!K8 -> 2.1972434e+08 | E7: =Plan3!L8 -> 240000000
B8: 2004 | C8: =Plan2!D8 -> 36342294 | D8: =Plan3!K9 -> 2.8721638e+08 | E8: =Plan3!L9 -> 295000000
B9: 2005 | C9: =Plan2!D9 -> 43541729 | D9: =Plan3!K10 -> 2.9175051e+08 | E9: =Plan3!L10 -> 285000000
B10: 2006 | C10: =Plan2!D10 -> 58064664 | D10: =Plan3!K11 -> 3.4943603e+08 | E10: =Plan3!L11 -> 325000000
B11: 2007 | C11: =Plan2!D11 -> 66615763 | D11: =Plan3!K12 -> 3.8137856e+08 | E11: =Plan3!L12 -> 390000000
B12: 2008 | C12: =Plan2!D12 -> 3.4206664e+08 | D12: =Plan3!K13 -> 3.1573718e+08 | E12: =Plan3!L13 -> 315000000
B13: 2009 | C13: =Plan2!D13 -> 3.452258e+08 | D13: =Plan3!K14 -> 3.5665459e+08 | E13: =Plan3!L14 -> 0
B14: 2010 | C14: =Plan2!D14 -> 5.8226768e+08 | D14: =Plan3!K15 -> 4.9715935e+08 | E14: =Plan3!L15 -> 0
B15: * Gastos Ideais em Conservação para toda a amostra (Estaduais + Nacionais) tanto para consolidação quanto Despesas de Custeio.
