Workbook

Sheet Plan1
B2: GEA - 2010
C3: Programa | D3: Ação | E3: Autorizado | F3: Liquidado | G3: % | H3: Valor
B4: MMA/IBAMA/FUNAMA/ SFB | C4: Recursos Pesqueiros Sustentáveis | D4: Ordenamento Pesqueiro em Reservas Extrativistas | E4: 800000 | F4: 400000 | G4: 25
D6: Desenvolvimento de Projetos-Piloto de Conservação de Manguezais | E6: 650010 | F6: 17581 | G6: 25
C7: Programa Nacional de Florestas | D7: Cadastramento de Florestas Públicas Nacionais | E7: 800000 | F7: 362990 | G7: 100
D8: Demarcação de Florestas Públicas da União no Distrito Florestal da BR 163 | E8: 450000 | F8: 380910 | G8: 100
C9: Gestão da Política de Meio Ambiente | D9: Capacitação de Servidores Públicos Federais em Processo de Qualificação e Requalificação | E9: 10724735 | F9: 7504028 | G9: 5
C10: Comunidades Tradicionais | D10: Gestão e Administração do Programa | E10: 2965000 | F10: 472383 | G10: 75
D11: Capacitação de Comunidades Tradicionais | E11: 5560000 | F11: 418088 | G11: 75
D12: Assistência à Produção e à Comercializaçãode Produtos da Sociobiodiversidade | E12: 405500 | F12: 237764 | G12: 75
C13: Revitalização de Bacias Hidrográficas em Situação de Vulnerabilidade e Degradação Ambiental | D13: Recuperação e Prevenção da Bacia do Rio São Francisco | E13: 0 | F13: 0 | G13: 10
C14: Conservação e Recuperação dos Biomas Brasileiros | D14: Implantação de Corredores Ecológicos | E14: 12763874 | F14: 7345956.3 | G14: 25
D15: Regularização Fundiária das Unidades de Conservação Federais | E15: 153383792 | F15: 50944794 | G15: 100
D16: Gestão de Áreas Protegidas nos Ecossistemas* | E16: 39429458 | F16: 25335032 | G16: 100
D17: Apoio à Criação e Gestão de Áreas Protegidas | E17: 8075839 | F17: 2737236.9 | G17: 100
C18: Conservação, Manejo e Uso Sustentável da Agrobiodiversidade | D18: Fomento à Projetos Demonstrativos na Amazônia e Mata Atlântica | E18: 10150992 | F18: 126444 | G18: 25
C19: Prevenção e Combate ao Desmatamento, Queimadas e Incêndios Florestais (FLORESCER) | E19: 27060000 | F19: 24827333 | G19: 12
B20: ICMBIO | E20: 625857865 | F20: 461157142 | G20: 100
D22: TOTAL | E22: =SUM(E4:E21) -> 8.9907706e+08 | F22: =SUM(F4:F21) -> 5.8226768e+08
B23: Notas:
B24: (2) Fonte de Dados: SIGA Brasil, 2011.
B25: (3) Fonte de Dados: Contas Abertas, 2011;
B27: GEA - 2009 | J27: GEA - 2008
C28: Programa | D28: Ação | E28: Autorizado | F28: Total Liquidado | G28: % | H28: Valor | K28: Programa | L28: Ação | M28: Autorizado | N28: Total Liquidado | O28: % | P28: Valor
B29: MMA/IBAMA/FUNAMA/ SFB | D29: Ordenamento Pesqueiro em Reservas Extrativistas | E29: 927600 | F29: 639563 | G29: 100 | J29: MMA/IBAMA/FUNAMA/ SFB | K29: Recursos Pesqueiros Sustentáveis | L29: Desenvolvimento de Projetos - Piloto de Conservação de Manguezais (4) | N29: 2426000 | O29: 25
C30: Recursos Pesqueiros Sustentáveis | D30: Desenvolvimento de Projetos - Piloto de Conservação de Manguezais (2) | E30: 511596 | F30: 197016 | G30: 25
K31: Programa Nacional de Florestas | L31: Fomento ao Manejo Florestal da Amazônia (4) | N31: 400000 | O31: 25
C32: Programa Nacional de Florestas | D32: Demarcação de Florestas Públicas da União no Distrito Florestal da BR 163 | E32: 3000000 | F32: 612857 | G32: 25 | K32: Gestão da Política de Meio Ambiente | L32: Capacitação de Servidores Públicos Federais em Processo de Qualificação e Requalificação (4) | N32: 3399776 | O32: 5
C33: Gestão da Política de Meio Ambiente | D33: Capacitação de Servidores Públicos Federais em Processo de Qualificação e Requalificação (2) | E33: 0 | F33: 0 | G33: 5 | K33: Comunidades Tradicionais (2) | L33: Gestão e Administração do Programa | M33: 2337600 | N33: 2308093 | O33: 75
C34: Comunidades Tradicionais (2) | D34: Gestão e Administração do Programa | E34: 2280000 | F34: 2255964 | G34: 75 | L34: Capacitação de Comunidades Tradicionais | M34: 40917930 | N34: 14419517 | O34: 75
D35: Capacitação de Comunidades Tradicionais | E35: 5922230 | F35: 2828816 | G35: 75 | L35: Assistência à Produção e à Comercializaçãode Produtos da Sociobiodiversidade | M35: 486000 | N35: 485704 | O35: 75
D36: Assistência à Produção e à Comercializaçãode Produtos da Sociobiodiversidade | E36: 677000 | F36: 170289 | G36: 75 | K36: Revitalização de Bacias Hidrográficas em Situação de Vulnerabilidade e Degradação Ambiental | L36: Recuperação e Prevenção da Bacia do Rio São Francisco (2) | M36: 4190000 | N36: 1129633 | O36: 10
C37: Revitalização de Bacias Hidrográficas em Situação de Vulnerabilidade e Degradação Ambiental | D37: Recuperação e Prevenção da Bacia do Rio São Francisco (2) | E37: 0 | F37: 0 | G37: 10 | K37: Conservação e Recuperação dos Biomas Brasileiros (3) | L37: Implantação de Corredores Ecológicos | M37: 24103008 | N37: 951000 | O37: 25
C38: Conservação e Recuperação dos Biomas Brasileiros (3) | D38: Implantação de Corredores Ecológicos | E38: 10937399 | F38: 4599837.2 | G38: 25 | L38: Capacitação para Conservação e Uso Sustentável dos Biomas | M38: 370000 | N38: 333000 | O38: 25
D39: Regularização Fundiária das Unidades de Conservação Federais | E39: 1483792 | F39: 1561940.7 | G39: 100 | L39: Monitoramento do Sistema de Gestão Integrado e Participação para Conservação e Uso Sustentável dos Biomas Brasileiros. | M39: 2749712 | N39: 642708.54 | O39: 25
D40: Gestão de Áreas Protegidas nos Ecossistemas* | E40: 33.140.184.00 | F40: 29.094.753.26 | G40: 100 | L40: Regularização Fundiária das Unidades de Conservação Federais | M40: 7015000 | N40: 1012053.5 | O40: 100
D41: Apoio à Criação e Gestão de Áreas Protegidas | E41: 9993962 | F41: 9810858.6 | G41: 100 | L41: Gestão de Áreas Protegidas nos Ecossistemas* | M41: 18228289 | N41: 13524330 | O41: 100
C42: Conservação, Manejo e Uso Sustentável da Agrobiodiversidade | D42: Fomento à Projetos Demonstrativos na Amazônia e Mata Atlântica (2) | E42: 14258668 | F42: 408472 | G42: 25 | L42: Apoio à Criação e Gestão de Áreas Protegidas | M42: 35917781 | N42: 2437233.2 | O42: 100
C43: Prevenção e Combate ao Desmatamento, Queimadas e Incêndios Florestais (FLORESCER) (2) | E43: 0 | F43: 0 | G43: 12 | K43: Áreas Protegidas do Brasil | L43: Na Íntegra (2) | M43: 3434107 | N43: 9093397.3 | O43: 100
B44: ICMBIO (2) | E44: 353893468 | F44: 322779754 | K44: Conservação, Manejo e Uso Sustentável da Agrobiodiversidade | L44: Fomento à Projetos Demonstrativos na Amazônia e Mata Atlântica (4) | M44: 3434107 | N44: 300000 | O44: 25
E45: =SUM(E30:E44) -> 402958115 | F45: =SUM(F30:F44) -> 3.452258e+08 | K45: Prevenção e Combate ao Desmatamento, Queimadas e Incêndios Florestais (FLORESCER) (2) | L45: Destinação de 12% do liquidado para o SNUC*** | N45: 6592689.1 | O45: 12
B46: Notas: | J46: ICMBIO** (2) | M46: 333870252 | N46: 282611510 | O46: 100
B47: (2) Fonte de Dados: SIGA Brasil, 2011.
B48: (3) Fonte de Dados: Contas Abertas, 2011; | M48: =SUM(M29:M47) -> 477053786 | N48: =SUM(N29:N47) -> 3.4206664e+08
J49: Notas:
J50: (1) Apesar das porcentagens terem sido mantidas fielmente conforme apresentadas na publicação do MMA,2009 houve divergência entre os valores apresentados pela mesma e os obtidos por meio de pesquisa ao Siga Senado e à ONG Contas Abertas. Sendo assim, preferiu-se utilizar os dados das fontes pesquisadas já que prevaleceram em todos os anos da série temporal.
J51: (2) Fonte de Dados: SIGA Brasil, 2011.
J52: (3) Fonte de Dados: Contas Abertas, 2011;
J53: (4) MMA, 2009
J54: * Conforme descrito na Ação: Mata Atlântica, Pampa, Cerrado, Pantanal, Caatinga, Amazônico e Costeiro/Marinho
J55: ** Segundo a Publicação Pilares para a Sustentabilidade Financeira do SNUC (2009) a totalidade dos recursos do ICMBIO é aplicada diretamente em UCs Federais.
J56: *** Conforme descrito na Publicação Pilares para a Sustentabilidade Financeira do SNUC (2009).
B58: GEA - 2007 | J58: GEA - 2006
C59: Programa | D59: Ação | E59: Autorizado | F59: Total Liquidado | G59: % | H59: Valor | K59: Programa | L59: Ação | M59: Autorizado | N59: Total Liquidado | O59: % | P59: Valor
B60: MMA/IBAMA/FUNAMA | C60: Recursos Pesqueiros Sustentáveis | D60: Ordenamento Pesqueiro em Reservas Extrativistas (2) | E60: 455000 | F60: 446981 | G60: 25 | J60: MMA/IBAMA/FUNAMA | K60: Recursos Pesqueiros Sustentáveis | L60: Ordenamento Pesqueiro em Reservas Extrativistas (2) | M60: 454955 | N60: 453618 | O60: 25
O61: 25
C62: Programa Nacional de Florestas | D62: Ordenamento do Uso Florestal Sustentável em Florestas Nacionais (2) | E62: 1597300 | F62: 88111 | G62: 25 | K62: Programa Nacional de Florestas | L62: Certificação Florestal de Produtos Extrativistas (2) | M62: 193500 | N62: 193500 | O62: 25
C63: Gestão da Política de Meio Ambiente | D63: Capacitação de Servidores Públicos Federais em Processo de Qualificação e Requalificação (2) | E63: 1364844 | F63: 783417 | G63: 5 | L63: Recuperação de Ecossistemas e Áreas Degradadas (2) | M63: 220000 | N63: 175823
C64: Comunidades Tradicionais | D64: Gestão e Administração do Programa (2) | E64: 2638824 | F64: 2404434 | G64: 75 | K64: Gestão da Política de Meio Ambiente | L64: Capacitação de Servidores Públicos Federais em Processo de Qualificação e Requalificação (2) | M64: 1110620 | N64: 580139 | O64: 5
D65: Capacitação de Comunidades Tradicionais (2) | E65: 6940182 | F65: 5963967 | G65: 75 | K65: Comunidades Tradicionais | L65: Gestão e Administração do Programa (2) | M65: 2245497 | N65: 2192549 | O65: 75
D66: Assistência à Produção e à Comercializaçãode Produtos da Sociobiodiversidade (2) | E66: 703042 | F66: 703042 | G66: 75 | L66: Capacitação de Comunidades Tradicionais (2) | M66: 1762901 | N66: 1737389 | O66: 75
D67: Fomento a Projetos de Gestão Ambiental das Reservas Extrativistas da Amazônia (2) | E67: 2242415 | F67: 0 | G67: 100 | K67: Revitalização de Bacias Hidrográficas em Situação de Vulnerabilidade e Degradação Ambiental | L67: Recuperação e Preservação da Bacia do Rio São Francisco (2) | M67: 9650000 | N67: 8343524 | O67: 10
C68: Conservação e Recuperação dos Biomas Brasileiros | D68: Capacitação para Conservação e Uso Sustentável dos Biomas (3) | E68: 400000 | F68: 289202 | G68: 25 | K68: Conservação e Recuperação dos Biomas Brasileiros | L68: Implantação de Corredores Ecológicos (3) | M68: 0 | N68: 0 | O68: 25
C69: Areas Protegidas do Brasil | D69: Na Íntegra (2) | E69: 54043669 | F69: 39058319 | G69: 100 | L69: Capacitação para Conservação e Uso Sustentável dos Biomas (3) | M69: 826781 | N69: 461566 | O69: 25
B70: IBAMA | C70: Prevenção e Combate ao Desmatamento, Queimadas e Incêndios Florestais (FLORESCER) (2) | D70: Destinação de 12% do liquidado para o SNUC*** | F70: 5588854.4 | G70: 12 | L70: Monitoramento do Sistema de Gestão Integrado e Participação para Conservação e Uso Sustentável dos Biomas Brasileiros. (3) | M70: 0 | N70: 0 | O70: 25
B71: Serviço Florestal Brasileiro (SFB) (1) | C71: Gerenciamento de Concessões em Florestas Públicas | E71: 3955656 | F71: 3955656 | H71: 3955656 | L71: Apoio à Criação e Gestão de Áreas Protegidas (3) | M71: 0 | N71: 0 | O71: 100
C72: Criação e Implementação de Distritos Florestais Sustentáveis | E72: 3906341 | F72: 3906341 | H72: 3906341 | K72: Áreas Protegidas do Brasil | L72: Na íntegra (3) | M72: 56627619 | N72: 42926871 | O72: 100
C73: Funcionamento do Serviço Florestal Brasileiro | E73: 1474075 | F73: 1474075 | H73: 1474075 | J73: Serviço Florestal Brasileiro (SFB) (1) | K73: Despesas com Pessoal | M73: 147954.32 | N73: 147954.32 | P73: 147954.32
C74: Implantação do Sistema Nacional de Informações Florestais | E74: 811916 | F74: 811916 | H74: 811916 | K74: Investimentos (equipamentos) | M74: 140612 | N74: 140612 | P74: 140612
C75: Formulação e Difusão de Procedimentos de Manejo Florestal | E75: 1141448 | F75: 1141448 | H75: 1141448 | K75: Operações (viagens, serviços externos, treinamentos, consultas públicas, etc) | M75: 711119.06 | N75: 711119.06 | P75: 711119.06
D76: TOTAL | E76: =SUM(E60:E75) -> 81674712 | F76: =SUM(F60:F75) -> 66615763 | H76: =SUM(H71:H75) -> 11289436 | L76: TOTAL | M76: =SUM(M60:M75) -> 74091558 | N76: =SUM(N60:N75) -> 58064664 | P76: =SUM(P73:P75) -> 999685.38
B77: Notas: | J77: Notas:
B78: (1) No ano de 2006 o Serviço Florestal Brasileiro passou a contribuir com a Gestão do SNUC. No entanto, seus empenhos só passaram a constar nas fontes pesquisadas a partir do ano de 2008. Antes disso, mais precisamente nos anos de 2006 e 2007, seu orçamento anual era divulgado em um modelo de Relatório denominado "Gestão de Florestas Públicas". Os dados aqui descritos são oriundos desse Relatório. | J78: (1) No ano de 2006 o Serviço Florestal Brasileiro passou a contribuir com a Gestão do SNUC. No entanto, seus empenhos só passaram a constar nas fontes pesquisadas a partir do ano de 2008. Antes disso, mais precisamente nos anos de 2006 e 2007, seu orçamento anual era divulgado em um modelo de Relatório denominado "Gestão de Florestas Públicas". Os dados aqui descritos são oriundos desse Relatório.
B79: (2) Fonte de Dados: SIGA Brasil, 2011. | J79: (2) Fonte de Dados: SIGA Brasil, 2011.
B80: (3) Fonte de Dados: Contas Abertas, 2011; | J80: (3) Fonte de Dados: Contas Abertas, 2011;
B82: GEA - 2005 | J82: GEA - 2004
C83: Programa | D83: Ação | E83: Autorizado | F83: Total Liquidado | G83: % | H83: Valor | K83: Programa | L83: Ação | M83: Autorizado | N83: Total Liquidado | O83: % | P83: Valor
B84: MMA/IBAMA/FUNAMA | C84: Recursos Pesqueiros Sustentáveis | D84: Fomento a Projetos de Uso Sustentável dos Recursos Pesqueiros (2) | E84: 0 | F84: 0 | G84: 25 | J84: MMA/IBAMA/FUNAMA | K84: Recursos Pesqueiros Sustentáveis | L84: Fomento a Projetos de Uso Sustentável dos Recursos Pesqueiros (2) | M84: 3000000 | N84: 1616031 | O84: 25
D86: Ordenamento Pesqueiro em Reservas Extrativistas | E86: 100000 | F86: 100000 | G86: 100 | K86: Programa Nacional de Florestas | L86: Uso Múltiplo dos Recursos das Florestas Nacionais (2) | M86: 0 | N86: 0 | O86: 25
C87: Programa Nacional de Florestas | D87: Certificação Florestal de Produtos Extrativistas | E87: 337500 | F87: 300000 | G87: 25 | L87: Apoio à Populações Tradicionais em Reservas Extrativistas (2) | M87: 0 | N87: 0 | O87: 25
D88: Manejo de Florestas Públicas | E88: 3500000 | F88: 2054796 | G88: 25 | K88: Áreas Protegidas do Brasil | L88: Na íntegra (3) | M88: 34779134 | N88: 23029096 | O88: 100
D89: Apoio e Recuperação de Ecossistemas e Áreas Degradadas | E89: 3113434 | F89: 2756055 | G89: 25 | K89: Amazônia Sustentável | L89: Expansão e Consolidação do Sistema de Áreas Protegidas na Região Amazônica (1) (2) | M89: 5420883 | N89: 133119 | O89: 100
C90: Áreas Protegidas do Brasil | D90: Na íntegra (2) (3) | E90: 30477052 | F90: 23222194 | G90: 100 | K90: Gestão da Política de Meio Ambiente | L90: Capacitação de Servidores Públicos Federais em Processo de Qualificação e Requalificação (2) | M90: 2320429 | N90: 1694374 | O90: 5
C91: Amazônia Sustentável | D91: Expansão e Consolidação do Sistema de Áreas Protegidas na Região Amazônica (1) (2) | E91: 0 | F91: 0 | G91: 100 | K91: Comunidades Tradicionais | L91: Gestão e Administração do Programa (2) | M91: 400000 | N91: 393424 | O91: 75
C92: Gestão da Política de Meio Ambiente | D92: Capacitação de Servidores Públicos Federais em Processo de Qualificação e Requalificação (2) | E92: 1562000 | F92: 362462 | G92: 5 | L92: Capacitação de Comunidades Tradicionais (2) | M92: 443150 | N92: 64792 | O92: 75
C93: Comunidades Tradicionais | D93: Gestão e Administração do Programa (2) | E93: 365180 | F93: 0 | G93: 75 | L93: Apoio à Comunidades Extrativistas na Amazônia (2) | M93: 6410069 | N93: 5840069 | O93: 75
D94: Capacitação de Comunidades Tradicionais (2) | E94: 708246 | F94: 457778 | G94: 75 | L94: Capacitação de Comunidades Extrativistas na Amazônia (2) | M94: 850000 | N94: 850000 | O94: 75
D95: Apoio à Comunidades Extrativistas na Amazônia (2) | E95: 5439768 | F95: 2977079 | G95: 75 | L95: Assistência Técnica à Produção e Comercialização de Produtos Extrativistas na Amazônia (2) | M95: 537753 | N95: 523153 | O95: 75
D96: Capacitação de Comunidades Extrativistas na Amazônia (2) | E96: 0 | F96: 0 | G96: 75 | K96: Conservação e Recuperação dos Biomas Brasileiros | L96: Implantação de Corredores Ecológicos (2)(3) | M96: 4084500 | N96: 2198236.1 | O96: 25
D97: Fomento à Projetos de Gestão Ambiental das Reservas Extrativistas da Amazônia | E97: 5627466 | F97: 5627466 | G97: 100 | K97: Prevenção e Combate ao Desmatamento, Queimadas e Incêndios Florestais (FLORESCER) | L97: Prevenção de Incêndios Florestais em Unidades de Conservação (2) | M97: 0 | N97: 0 | O97: 12
D98: Assistência Técnica à Produção e Comercialização de Produtos Extrativistas na Amazônia (2) | E98: 708246 | F98: 561461 | G98: 75 | L98: TOTAL | M98: =SUM(M84:M97) -> 58245918 | N98: =SUM(N84:N97) -> 36342294
C99: Conservação e Recuperação dos Biomas Brasileiros | D99: Implantação de Corredores Ecológicos (2) | E99: 14960275 | F99: 5122437.9 | G99: 25 | J99: Notas:
D100: TOTAL | E100: =SUM(E84:E99) -> 66899167 | F100: =SUM(F84:F99) -> 43541729 | J100: (1) Essa ação passa a ser um objetivo a ser atingido por meio de outras ações de consolidação como por exemplo o "Fomento a Projetos de Gestão Ambiental das Reservas Extrativistas da Amazônia". Manteve-se a nomenclatura da ação, neste estudo, mas na fonte de dados a descrição da ação sofreu alteração;
B101: Notas: | J101: (2) Fonte de Dados: SIGA Brasil, 2011.
B102: (1) Essa ação passa a ser um objetivo a ser atingido por meio de outras ações de consolidação como por exemplo o "Fomento a Projetos de Gestão Ambiental das Reservas Extrativistas da Amazônia". Manteve-se a nomenclatura da ação, neste estudo, mas na fonte de dados a descrição da ação sofreu alteração; | J102: (3) Fonte de Dados: Contas Abertas, 2011;
B103: (2) Fonte de Dados: SIGA Brasil, 2011.
B104: (3) Fonte de Dados: ONG Contas Abertas; | J104: GEA - 2002
K105: Programa | L105: Ação | M105: Autorizado | N105: Total Liquidado | O105: % | P105: Valor
B106: GEA - 2003 | J106: MMA/IBAMA/FUNAMA | K106: Amazônia Sustentável | L106: Expansão e Consolidação do Sistema de Áreas Protegidas na Região Amazônica | M106: 479998 | N106: 479992
B107: Orgão | C107: Programa | D107: Ação | E107: Autorizado | F107: Total Liquidado | G107: % | H107: Valor
...

Sheet Plan2
B2: Financiamento do SNUC 2000 -2010
B3: Ano | C3: Autorizado* | D3: Liquidado** | E3: MMA, 2009*** | F3: % dos gastos totais atingida
B4: 2000 | C4: =Plan1!M137 -> 130273336 | D4: =Plan1!N137 -> 60751457 | E4: 0 | F4: 0
B5: 2001 | C5: =Plan1!E140 -> 136014075 | D5: =Plan1!F140 -> 82285990 | E5: 275000000 | F5: =D5*100/E5/100 -> 0.29922178
B6: 2002 | C6: =Plan1!M118 -> 162656120 | D6: =Plan1!N118 -> 93455305 | E6: 290000000 | F6: =D6*100/E6/100 -> 0.32225967
B7: 2003 | C7: =Plan1!E120 -> 144356057 | D7: =Plan1!F120 -> 78726062 | E7: 240000000 | F7: =D7*100/E7/100 -> 0.32802526
B8: 2004 | C8: =Plan1!M98 -> 58245918 | D8: =Plan1!N98 -> 36342294 | E8: 295000000 | F8: =D8*100/E8/100 -> 0.12319422
B9: 2005 | C9: =Plan1!E100 -> 66899167 | D9: =Plan1!F100 -> 43541729 | E9: 285000000 | F9: =D9*100/E9/100 -> 0.152778
B10: 2006 | C10: =Plan1!M76 -> 74091558 | D10: =Plan1!N76 -> 58064664 | E10: 325000000 | F10: =D10*100/E10/100 -> 0.17866051
B11: 2007 | C11: =Plan1!E76 -> 81674712 | D11: =Plan1!F76 -> 66615763 | E11: 390000000 | F11: =D11*100/E11/100 -> 0.17080965
B12: 2008 | C12: =Plan1!M48 -> 477053786 | D12: =Plan1!N48 -> 3.4206664e+08 | E12: 315000000 | F12: =D12*100/E12/100 -> 1.0859259
B13: 2009 | C13: =Plan1!E45 -> 402958115 | D13: =Plan1!F45 -> 3.452258e+08 | E13: 0 | F13: 0
B14: 2010 | C14: =Plan1!E22 -> 8.9907706e+08 | D14: =Plan1!F22 -> 5.8226768e+08 | E14: 0 | F14: 0
B15: * valores disponibilizados pelas fontes de pesquisa do estudo
B16: ** valores atingidos pelo estudo
B17: ***valores disponibilizados pelo estudo Pilares para a Sustentabilidade Financeira do SNUC.

Sheet Plan3
B2: Financiamento do SNUC 2000 - 2010 (valores agregados - MILHÕES DE R$)
C3: MMA | E3: SFB | G3: IBAMA | I3: ICMBio | K3: TOTAL SNUC
B4: Ano | C4: Orç. Total | D4: %SNUC | E4: Orç. Total | F4: %SNUC | G4: Orç. Total | H4: %SNUC | I4: Orç. Total | J4: %SNUC | K4: GEA - Dados agregados | L4: MMA, 2009*** | M4: % dos gastos totais atingida
B5: 2000 | D5: =C5*0.1005 -> 0 | E5: 0 | F5: =E5*0.3 -> 0 | G5: 0 | H5: =G5*0.337 -> 0 | I5: 0 | J5: =I5 -> 0 | K5: =D5+F5+H5+J5 -> 0 | L5: 0 | M5: 0
B6: 2001 | C6: 946132233 | D6: =C6*0.1005 -> 95086289 | E6: 0 | F6: =E6*0.3 -> 0 | G6: 0 | H6: =G6*0.337 -> 0 | I6: 0 | J6: =I6 -> 0 | K6: =D6+F6+H6+J6 -> 95086289 | L6: 275000000 | M6: =K6*100/L6/100 -> 0.34576833
B7: 2002 | C7: 264969354 | D7: =C7*0.1005 -> 26629420 | E7: 0 | F7: =E7*0.3 -> 0 | G7: 578252923 | H7: =G7*0.337 -> 1.9487124e+08 | I7: 0 | J7: =I7 -> 0 | K7: =D7+F7+H7+J7 -> 2.2150066e+08 | L7: 290000000 | M7: =K7*100/L7/100 -> 0.76379536
B8: 2003 | C8: 161629505 | D8: =C8*0.1005 -> 16243765 | E8: 0 | F8: =E8*0.3 -> 0 | G8: 603799912 | H8: =G8*0.337 -> 2.0348057e+08 | I8: 0 | J8: =I8 -> 0 | K8: =D8+F8+H8+J8 -> 2.1972434e+08 | L8: 240000000 | M8: =K8*100/L8/100 -> 0.91551806
B9: 2004 | C9: 188140036 | D9: =C9*0.1005 -> 18908074 | E9: 0 | F9: =E9*0.3 -> 0 | G9: 796167067 | H9: =G9*0.337 -> 2.683083e+08 | I9: 0 | J9: =I9 -> 0 | K9: =D9+F9+H9+J9 -> 2.8721638e+08 | L9: 295000000 | M9: =K9*100/L9/100 -> 0.97361483
B10: 2005 | C10: 224019885 | D10: =C10*0.1005 -> 22513998 | E10: 0 | F10: =E10*0.3 -> 0 | G10: 798921406 | H10: =G10*0.337 -> 2.6923651e+08 | I10: 0 | J10: =I10 -> 0 | K10: =D10+F10+H10+J10 -> 2.9175051e+08 | L10: 285000000 | M10: =K10*100/L10/100 -> 1.023686
B11: 2006 | C11: 194327786 | D11: =C11*0.1 -> 19432779 | E11: 999685.38 | F11: =E11*0.3 -> 299905.61 | G11: 978348209 | H11: =G11*0.337 -> 3.2970335e+08 | I11: 0 | J11: =I11 -> 0 | K11: =D11+F11+H11+J11 -> 3.4943603e+08 | L11: 325000000 | M11: =K11*100/L11/100 -> 1.0751878
B12: 2007 | C12: 203286700 | D12: =C12*0.1 -> 20328670 | E12: 11289436 | F12: =E12*0.3 -> 3386830.8 | G12: 1061314712 | H12: =G12*0.337 -> 3.5766306e+08 | I12: 0 | J12: =I12 -> 0 | K12: =D12+F12+H12+J12 -> 3.8137856e+08 | L12: 390000000 | M12: =K12*100/L12/100 -> 0.97789374
B13: 2008 | C13: 205135579 | D13: =C13*0.1 -> 20513558 | E13: 12703014 | F13: =E13*0.3 -> 3810904.2 | G13: 838209807 | H13: =G13*0.0105 -> 8801203 | I13: 282611510 | J13: =I13 -> 282611510 | K13: =D13+F13+H13+J13 -> 3.1573718e+08 | L13: 315000000 | M13: =K13*100/L13/100 -> 1.0023402
B14: 2009 | C14: 161507630 | D14: =C14*0.1 -> 16150763 | E14: 25151461 | F14: =E14*0.3 -> 7545438.3 | G14: 969393719 | H14: =G14*0.0105 -> 10178634 | I14: 322779754 | J14: =I14 -> 322779754 | K14: =D14+F14+H14+J14 -> 3.5665459e+08 | L14: 0 | M14: 0
B15: 2010 | C15: 150552892 | D15: =C15*0.1 -> 15055289 | E15: 31728730 | F15: =E15*0.3 -> 9518619 | G15: 1088409361 | H15: =G15*0.0105 -> 11428298 | I15: 461157142 | J15: =I15 -> 461157142 | K15: =D15+F15+H15+J15 -> 4.9715935e+08 | L15: 0 | M15: 0
B16: ***valores disponibilizados na publicação Pilares para a Sustentabilidade Financeira do SNUC

Sheet Plan4
B2: Gastos Efetivos Atuais do SNUC
B3: Ano | C3: GEA 1 | D3: GEA 2 | E3: GEA 3
B4: 2000 | C4: =Plan2!D4 -> 60751457 | D4: =Plan3!K5 -> 0 | E4: =Plan3!L5 -> 0
B5: 2001 | C5: =Plan2!D5 -> 82285990 | D5: =Plan3!K6 -> 95086289 | E5: =Plan3!L6 -> 275000000
B6: 2002 | C6: =Plan2!D6 -> 93455305 | D6: =Plan3!K7 -> 2.2150066e+08 | E6: =Plan3!L7 -> 290000000
B7: 2003 | C7: =Plan2!D7 -> 78726062 | D7: =Plan3!K8 -> 2.1972434e+08 | E7: =Plan3!L8 -> 240000000
B8: 2004 | C8: =Plan2!D8 -> 36342294 | D8: =Plan3!K9 -> 2.8721638e+08 | E8: =Plan3!L9 -> 295000000
B9: 2005 | C9: =Plan2!D9 -> 43541729 | D9: =Plan3!K10 -> 2.9175051e+08 | E9: =Plan3!L10 -> 285000000
B10: 2006 | C10: =Plan2!D10 -> 58064664 | D10: =Plan3!K11 -> 3.4943603e+08 | E10: =Plan3!L11 -> 325000000
B11: 2007 | C11: =Plan2!D11 -> 66615763 | D11: =Plan3!K12 -> 3.8137856e+08 | E11: =Plan3!L12 -> 390000000
B12: 2008 | C12: =Plan2!D12 -> 3.4206664e+08 | D12: =Plan3!K13 -> 3.1573718e+08 | E12: =Plan3!L13 -> 315000000
B13: 2009 | C13: =Plan2!D13 -> 3.452258e+08 | D13: =Plan3!K14 -> 3.5665459e+08 | E13: =Plan3!L14 -> 0
B14: 2010 | C14: =Plan2!D14 -> 5.8226768e+08 | D14: =Plan3!K15 -> 4.9715935e+08 | E14: =Plan3!L15 -> 0
B15: * Gastos Ideais em Conservação para toda a amostra (Estaduais + Nacionais) tanto para consolidação quanto Despesas de Custeio.
